BEGIN:VCALENDAR
VERSION:2.0
PRODID:-//ChamberMaster//Event Calendar 2.0//EN
METHOD:PUBLISH
X-PUBLISHED-TTL:P3D
REFRESH-INTERVAL:P3D
CALSCALE:GREGORIAN
BEGIN:VEVENT
DTSTART:20150509T030000Z
DTEND:20150509T050000Z
X-MICROSOFT-CDO-ALLDAYEVENT:FALSE
SUMMARY:Dancing With the Lodi Stars
DESCRIPTION:Imagine the mayor\, the high school football coach\, a prominent business owner\, president of the board\, or anyone else that your community would love to see get in a costume and ballroom dance on-stage. Stars to be announced. VIP meet and greet and first 3 rows for seating.
X-ALT-DESC;FMTTYPE=text/html:Imagine the mayor\, the high school football coach\, a prominent business owner\, president of the board\, or anyone else that your community would love to see get in a costume and ballroom dance on-stage. Stars to be announced. VIP meet and greet and first 3 rows for seating.
LOCATION:Hutchins Street Square 125 S. Hutchins St. Lodi\, CA 95240
UID:e.2050.433
SEQUENCE:3
DTSTAMP:20260421T031010Z
URL:https://business.lodichamber.com/events/details/dancing-with-the-lodi-stars-05-08-2015-433
END:VEVENT

END:VCALENDAR
