BEGIN:VCALENDAR
VERSION:2.0
PRODID:-//ChamberMaster//Event Calendar 2.0//EN
METHOD:PUBLISH
X-PUBLISHED-TTL:P3D
REFRESH-INTERVAL:P3D
CALSCALE:GREGORIAN
BEGIN:VEVENT
DTSTART:20140706T010000Z
DTEND:20140706T050000Z
X-MICROSOFT-CDO-ALLDAYEVENT:FALSE
SUMMARY:DCI Capital Classic
DESCRIPTION:Drum Corps International (DCI) and Sacramento Mandarins Drum & Bugle Corps present DCI Capital Classic! Drum corps will be convening at this event from all over the state of California to showcase their 2014 shows prior to heading out on their tours from coast to coast performing for thousands of fans all over the United States this summer. At this one show we will have over 1000 accomplished youth musicians performing their highly entertaining music\, precision marching and maneuvers. Family entertainment. Chinese and American cuisine will be available for purchase. Box office opens 3:30 pm. Gates open 4pm.
X-ALT-DESC;FMTTYPE=text/html:Drum Corps International (DCI) and Sacramento Mandarins Drum &amp\; Bugle Corps present DCI Capital Classic! Drum corps will be convening at this event from all over the state of California to showcase their 2014 shows prior to heading out on their tours from coast to coast performing for thousands of fans all over the United States this summer. At this one show we will have over 1000 accomplished youth musicians performing their highly entertaining music\, precision marching and maneuvers. Family entertainment. Chinese and American cuisine will be available for purchase. Box office opens 3:30 pm. Gates open 4pm.
LOCATION:Monterey Trail High School\, 8661 Power Inn Road\, Elk Grove\, CA
UID:e.2050.279
SEQUENCE:3
DTSTAMP:20260421T161052Z
URL:https://business.lodichamber.com/events/details/dci-capital-classic-07-05-2014-279
END:VEVENT

END:VCALENDAR
