BEGIN:VCALENDAR
VERSION:2.0
PRODID:-//ChamberMaster//Event Calendar 2.0//EN
METHOD:PUBLISH
X-PUBLISHED-TTL:P3D
REFRESH-INTERVAL:P3D
CALSCALE:GREGORIAN
BEGIN:VEVENT
DTSTART:20150706T010000Z
DTEND:20150706T050000Z
X-MICROSOFT-CDO-ALLDAYEVENT:FALSE
SUMMARY:DCI Capital Classic
DESCRIPTION:Drums\, brass\, flags\, music and dance galore ? FEEL THE BEAT in your core! Drum corps will be convening at this event to present their 2015 summer shows. Sacramento Mandarins Drum & Bugle Corps and S.O.M.E. (Sponsors of Musical Enrichment) along with Drum Corps International will host over 1000 accomplished musicians performing their highly entertaining music\, precision marching and maneuvers. Family entertainment at its best! Chinese and American cuisine will be available for purchase. Box office opens 3:30 pm. Gates open 4pm.
X-ALT-DESC;FMTTYPE=text/html:Drums\, brass\, flags\, music and dance galore ? FEEL THE BEAT in your core! Drum corps will be convening at this event to present their 2015 summer shows. Sacramento Mandarins Drum &amp\; Bugle Corps and S.O.M.E. (Sponsors of Musical Enrichment) along with Drum Corps International will host over 1000 accomplished musicians performing their highly entertaining music\, precision marching and maneuvers. Family entertainment at its best! Chinese and American cuisine will be available for purchase. Box office opens 3:30 pm. Gates open 4pm.
LOCATION:Monterey Trail High School 8661 Power Inn Rd Elk Grove\, CA 95624
UID:e.2050.838
SEQUENCE:3
DTSTAMP:20260420T231728Z
URL:https://business.lodichamber.com/events/details/dci-capital-classic-07-05-2015-838
END:VEVENT

END:VCALENDAR
