BEGIN:VCALENDAR
VERSION:2.0
PRODID:-//ChamberMaster//Event Calendar 2.0//EN
METHOD:PUBLISH
X-PUBLISHED-TTL:P3D
REFRESH-INTERVAL:P3D
CALSCALE:GREGORIAN
BEGIN:VEVENT
DTSTART:20150325T170000Z
DTEND:20150326T010000Z
X-MICROSOFT-CDO-ALLDAYEVENT:FALSE
SUMMARY:Design On Display: exhibit of student work
DESCRIPTION:Check out the amazing work of the students in the Fashion and Interior Design programs at San Joaquin Delta College. On Wednesday\, March 25\, 2015\, Danner Hall will be transformed into a cool exhibition space\, showcasing projects in Fashion Design\, Fashion Illustration\, Fashion Embellishing\, Fashion Collection Design\, Fashion Marketing & Promotion\, Fashion Forecasting\, Residential Interior Design and more. There will also be an exhibit of 3 design challenges submitted by students in which attendees will vote for their favorites. The challenges are A T-shirt Redesign Challenge\, an Eco Design Challenge and a Furniture Refinishing Challenge. The event is free and open to anyone who wants to attend. There is no admission fee and no schedule.... it will be open all day from 10:00 am to 6:00 pm. Visit www.deltacollege.edu for maps and directions. Parking is $2 and permits are available from machines in every parking lot on campus.
X-ALT-DESC;FMTTYPE=text/html:Check out the amazing work of the students in the Fashion and Interior Design programs at San Joaquin Delta College. On Wednesday\, March 25\, 2015\, Danner Hall will be transformed into a cool exhibition space\, showcasing projects in Fashion Design\, Fashion Illustration\, Fashion Embellishing\, Fashion Collection Design\, Fashion Marketing &amp\; Promotion\, Fashion Forecasting\, Residential Interior Design and more. There will also be an exhibit of 3 design challenges submitted by students in which attendees will vote for their favorites. The challenges are A T-shirt Redesign Challenge\, an Eco Design Challenge and a Furniture Refinishing Challenge. The event is free and open to anyone who wants to attend. There is no admission fee and no schedule.... it will be open all day from 10:00 am to 6:00 pm. Visit www.deltacollege.edu for maps and directions. Parking is $2 and permits are available from machines in every parking lot on campus.
LOCATION:San Joaquin Delta College 5151 Pacific Avenue Stockton\, CA 95207
UID:e.2050.418
SEQUENCE:3
DTSTAMP:20260421T055913Z
URL:https://business.lodichamber.com/events/details/design-on-display-exhibit-of-student-work-03-25-2015-418
END:VEVENT

END:VCALENDAR
