BEGIN:VCALENDAR
VERSION:2.0
PRODID:-//ChamberMaster//Event Calendar 2.0//EN
METHOD:PUBLISH
X-PUBLISHED-TTL:P3D
REFRESH-INTERVAL:P3D
CALSCALE:GREGORIAN
BEGIN:VEVENT
DTSTART:20140614T210000Z
DTEND:20140614T230000Z
X-MICROSOFT-CDO-ALLDAYEVENT:FALSE
SUMMARY:Don Quixote The Ballet
DESCRIPTION:Don Quixote\, having read his fill of romances about knights and chivalry\, decides to set off on his travels in order to achieve great feats\, which will bring glory to his name and favor with his imagined lady love\, Dulcinea. As his sword-bearer\, he chooses the loyal Sancho Panza\, a man of sober outlook who is not prone to dreams. Two Shows 2:00 PM & 7:00 PM Presented by the Lodi Youth Ballet
X-ALT-DESC;FMTTYPE=text/html:Don Quixote\, having read his fill of romances about knights and chivalry\, decides to set off on his travels in order to achieve great feats\, which will bring glory to his name and favor with his imagined lady love\, Dulcinea. As his sword-bearer\, he chooses the loyal Sancho Panza\, a man of sober outlook who is not prone to dreams. Two Shows 2:00 PM &amp\; 7:00 PM Presented by the Lodi Youth Ballet
LOCATION:Hutchins Street Square - 125 S. Hutchins St. Lodi\, CA 95240
UID:e.2050.277
SEQUENCE:3
DTSTAMP:20260421T191002Z
URL:https://business.lodichamber.com/events/details/don-quixote-the-ballet-06-14-2014-277
END:VEVENT

END:VCALENDAR
