BEGIN:VCALENDAR
VERSION:2.0
PRODID:-//ChamberMaster//Event Calendar 2.0//EN
METHOD:PUBLISH
X-PUBLISHED-TTL:P3D
REFRESH-INTERVAL:P3D
CALSCALE:GREGORIAN
BEGIN:VEVENT
DTSTART:20140927T170000Z
DTEND:20140929T000000Z
X-MICROSOFT-CDO-ALLDAYEVENT:FALSE
SUMMARY:Earth's Treasures
DESCRIPTION:Stockton Lapidary & Mineral Club's Earth's Treasures Gem\, Mineral\, Jewelry\, and Bead Show\, Sept. 27-28\, 2014\, 10am - 5pm. Vendors\, demonstrations\, children's activities\, and raffle. Lodi Grape Festival Fair Grounds\, with free parking across the street. Adults $5.00\, children 12 and under free with paid adult.
X-ALT-DESC;FMTTYPE=text/html:Stockton Lapidary &amp\; Mineral Club&#39\;s Earth&#39\;s Treasures Gem\, Mineral\, Jewelry\, and Bead Show\, Sept. 27-28\, 2014\, 10am - 5pm. Vendors\, demonstrations\, children&#39\;s activities\, and raffle. Lodi Grape Festival Fair Grounds\, with free parking across the street. Adults $5.00\, children 12 and under free with paid adult.
LOCATION:Lodi Grape Festival Grounds
UID:e.2050.306
SEQUENCE:3
DTSTAMP:20260421T131232Z
URL:https://business.lodichamber.com/events/details/earth-s-treasures-09-27-2014-306
END:VEVENT

END:VCALENDAR
