BEGIN:VCALENDAR
VERSION:2.0
PRODID:-//ChamberMaster//Event Calendar 2.0//EN
METHOD:PUBLISH
X-PUBLISHED-TTL:P3D
REFRESH-INTERVAL:P3D
CALSCALE:GREGORIAN
BEGIN:VEVENT
DTSTART:20140419T160000Z
DTEND:20140419T193000Z
X-MICROSOFT-CDO-ALLDAYEVENT:FALSE
SUMMARY:Easter Breakfast and Carnival
DESCRIPTION:Bring the whole family to a free Easter Carnival with games\, crafts\, face painting and more from 9am-12:30pm. Plus\, "all you can eat pancakes" with bacon or sausage\, eggs\, orange juice and coffee for only $5 from 9-11:30am. It's all happening April 19th at Bear Creek Community Church. 11171 N Lower Sacramento Rd. Conveniently located between Lodi and Stockton. For details: go to www.bearcreekchurch.com
X-ALT-DESC;FMTTYPE=text/html:Bring the whole family to a free Easter Carnival with games\, crafts\, face painting and more from 9am-12:30pm. Plus\, &quot\;all you can eat pancakes&quot\; with bacon or sausage\, eggs\, orange juice and coffee for only $5 from 9-11:30am. It&#39\;s all happening April 19th at Bear Creek Community Church. 11171 N Lower Sacramento Rd. Conveniently located between Lodi and Stockton. For details: go to www.bearcreekchurch.com
LOCATION:Bear Creek Community Church 11171 N Lower Sacramento Rd Lodi\, CA 95242
UID:e.2050.244
SEQUENCE:3
DTSTAMP:20260421T204604Z
URL:https://business.lodichamber.com/events/details/easter-breakfast-and-carnival-04-19-2014-244
END:VEVENT

END:VCALENDAR
