BEGIN:VCALENDAR
VERSION:2.0
PRODID:-//ChamberMaster//Event Calendar 2.0//EN
METHOD:PUBLISH
X-PUBLISHED-TTL:P3D
REFRESH-INTERVAL:P3D
CALSCALE:GREGORIAN
BEGIN:VEVENT
DTSTART:20160326T160000Z
DTEND:20160326T190000Z
X-MICROSOFT-CDO-ALLDAYEVENT:FALSE
SUMMARY:Easter Carnival
DESCRIPTION:ON SATURDAY\, MARCH 26TH\, BRING THE WHOLE FAMILY TO A FREE EASTER CARNIVAL WITH GAMES\, CRAFTS\, FACEPAINTING\, CAKE WALK AND MORE FROM 9 AM. TO NOON. AND DON'T MISS OUT ON BREAKFAST WITH: ALL YOU CAN EAT PANCAKES\, PLUS BACON OR SAUSAGE\, EGGS\, ORANGE JUICE\, AND COFFEE FOR ONLY $5.00 FROM 9 to 11:30 A.M. IT?S ALL HAPPENING MARCH 26TH AT BEAR CREEK COMMUNITY CHURCH\, 11171 LOWER SACRAMENTO ROAD\, CONVENIENTLY LOCATED BETWEEN LODI AND STOCKTON. FOR DETAILS: GO TO WWW.BEARCREEKCHURCH.COM
X-ALT-DESC;FMTTYPE=text/html:ON SATURDAY\, MARCH 26TH\, BRING THE WHOLE FAMILY TO A FREE EASTER CARNIVAL WITH GAMES\, CRAFTS\, FACEPAINTING\, CAKE WALK AND MORE FROM 9 AM. TO NOON. AND DON&#39\;T MISS OUT ON BREAKFAST WITH: ALL YOU CAN EAT PANCAKES\, PLUS BACON OR SAUSAGE\, EGGS\, ORANGE JUICE\, AND COFFEE FOR ONLY $5.00 FROM 9 to 11:30 A.M. IT?S ALL HAPPENING MARCH 26TH AT BEAR CREEK COMMUNITY CHURCH\, 11171 LOWER SACRAMENTO ROAD\, CONVENIENTLY LOCATED BETWEEN LODI AND STOCKTON. FOR DETAILS: GO TO WWW.BEARCREEKCHURCH.COM
LOCATION:Bear Creek Community Church 11171 N Lower Sacramento Rd Lodi\, CA 95242
UID:e.2050.975
SEQUENCE:3
DTSTAMP:20260420T113742Z
URL:https://business.lodichamber.com/events/details/easter-carnival-03-26-2016-975
END:VEVENT

END:VCALENDAR
