BEGIN:VCALENDAR
VERSION:2.0
PRODID:-//ChamberMaster//Event Calendar 2.0//EN
METHOD:PUBLISH
X-PUBLISHED-TTL:P3D
REFRESH-INTERVAL:P3D
CALSCALE:GREGORIAN
BEGIN:VEVENT
DTSTART:20160326T173000Z
DTEND:20160326T210000Z
X-MICROSOFT-CDO-ALLDAYEVENT:FALSE
SUMMARY:Easter Festival at b Sharp
DESCRIPTION:We are going all out this Easter! There will be north of 800 eggs hidden in the back yard of b Sharp School of Music. There will also be vendors\, snacks\, music and a bounce house. Come have some fun with us! Other festivities are free for everyone (bounce house\, shopping with vendors\, cotton candy\, slushies and popcorn) Tickets for the egg hunt are $1 per chlid before March 25\, at the door tickets are $3 per child. Egg hunt is for ages 2-10 but there will be fun for everyone! For unenrolled students ages 4-6 there will be preview classes for our Let's Play Music course starting in August. Attendees will get FREE tickets for their family to the egg hunt. Spots for the preview classes are limited and it's first come\, first serve. To reserve\, call 209-981-4303 and leave a message. For tickets\, you can visit our website www.bSharpSchoolofMusic.com under "EVENTS" and purchase online. Or\, just call us!
X-ALT-DESC;FMTTYPE=text/html:We are going all out this Easter! There will be north of 800 eggs hidden in the back yard of b Sharp School of Music. There will also be vendors\, snacks\, music and a bounce house. Come have some fun with us! Other festivities are free for everyone (bounce house\, shopping with vendors\, cotton candy\, slushies and popcorn) Tickets for the egg hunt are $1 per chlid before March 25\, at the door tickets are $3 per child. Egg hunt is for ages 2-10 but there will be fun for everyone! For unenrolled students ages 4-6 there will be preview classes for our Let&#39\;s Play Music course starting in August. Attendees will get FREE tickets for their family to the egg hunt. Spots for the preview classes are limited and it&#39\;s first come\, first serve. To reserve\, call 209-981-4303 and leave a message. For tickets\, you can visit our website www.bSharpSchoolofMusic.com under &quot\;EVENTS&quot\; and purchase online. Or\, just call us!
LOCATION:21 W Locust St. Lodi Ca.
UID:e.2050.976
SEQUENCE:3
DTSTAMP:20260420T125143Z
URL:https://business.lodichamber.com/events/details/easter-festival-at-b-sharp-03-26-2016-976
END:VEVENT

END:VCALENDAR
