BEGIN:VCALENDAR
VERSION:2.0
PRODID:-//ChamberMaster//Event Calendar 2.0//EN
METHOD:PUBLISH
X-PUBLISHED-TTL:P3D
REFRESH-INTERVAL:P3D
CALSCALE:GREGORIAN
BEGIN:VEVENT
DTSTART:20150404T150000Z
DTEND:20150404T190000Z
X-MICROSOFT-CDO-ALLDAYEVENT:FALSE
SUMMARY:Easter Run and Fun
DESCRIPTION:It's time to sign up for the Eleventh Annual Easter Run & Fun on Saturday\, April 4 at beautiful Lodi Lake. 5k and 10k runners and walkers receive a Custom Shirt\; Pancake Breakfast\; and raffle entry there's a Kids Fun Run too! Proceeds benefit the Lodi Salvation Army's Hope Harbor Family Service Center. Then\, from 9:00 to 11:30 a.m. enjoy a $5 Pancake Breakfast & Free Easter Carnival until noon at Bear Creek Community Church. For details go to www.LodiEasterRun.com.
X-ALT-DESC;FMTTYPE=text/html:It&#39\;s time to sign up for the Eleventh Annual Easter Run &amp\; Fun on Saturday\, April 4 at beautiful Lodi Lake. 5k and 10k runners and walkers receive a Custom Shirt\; Pancake Breakfast\; and raffle entry there&#39\;s a Kids Fun Run too! Proceeds benefit the Lodi Salvation Army&#39\;s Hope Harbor Family Service Center. Then\, from 9:00 to 11:30 a.m. enjoy a $5 Pancake Breakfast &amp\; Free Easter Carnival until noon at Bear Creek Community Church. For details go to www.LodiEasterRun.com.
LOCATION:The Run is at Lodi Lake The Breakfast and Carnival are at Bear Creek Community Church\, 11171 N Lower Sacramento Rd
UID:e.2050.368
SEQUENCE:3
DTSTAMP:20260421T030902Z
URL:https://business.lodichamber.com/events/details/easter-run-and-fun-04-04-2015-368
END:VEVENT

END:VCALENDAR
