BEGIN:VCALENDAR
VERSION:2.0
PRODID:-//ChamberMaster//Event Calendar 2.0//EN
METHOD:PUBLISH
X-PUBLISHED-TTL:P3D
REFRESH-INTERVAL:P3D
CALSCALE:GREGORIAN
BEGIN:VEVENT
DTSTART:20160326T150000Z
DTEND:20160326T183000Z
X-MICROSOFT-CDO-ALLDAYEVENT:FALSE
SUMMARY:Easter Run & Fun
DESCRIPTION:Hey\, it's time to sign up for the 12th Annual Easter Run & Fun on Saturday\, March 26 at beautiful Lodi Lake. 5k and 10k runners and walkers receive a Tech Shirt\; Pancake Breakfast\; and raffle entry--There's a Kids Fun Run too! Proceeds benefit the Lodi Salvation Army's Hope Harbor Family Service Center. Then\, from 9:00-11:30 a.m. enjoy a $5 Pan- cake Breakfast & Free Easter Carnival until noon at Bear Creek Community Church. For details go to www.LodiEasterRun.com.
X-ALT-DESC;FMTTYPE=text/html:Hey\, it&#39\;s time to sign up for the 12th Annual Easter Run &amp\; Fun on Saturday\, March 26 at beautiful Lodi Lake. 5k and 10k runners and walkers receive a Tech Shirt\; Pancake Breakfast\; and raffle entry--There&#39\;s a Kids Fun Run too! Proceeds benefit the Lodi Salvation Army&#39\;s Hope Harbor Family Service Center. Then\, from 9:00-11:30 a.m. enjoy a $5 Pan- cake Breakfast &amp\; Free Easter Carnival until noon at Bear Creek Community Church. For details go to www.LodiEasterRun.com.
LOCATION:Bear Creek Community Church 11171 N Lower Sacramento Rd Lodi\, CA 95242
UID:e.2050.961
SEQUENCE:3
DTSTAMP:20260420T113743Z
URL:https://business.lodichamber.com/events/details/easter-run-fun-03-26-2016-961
END:VEVENT

END:VCALENDAR
