BEGIN:VCALENDAR
VERSION:2.0
PRODID:-//ChamberMaster//Event Calendar 2.0//EN
METHOD:PUBLISH
X-PUBLISHED-TTL:P3D
REFRESH-INTERVAL:P3D
CALSCALE:GREGORIAN
BEGIN:VEVENT
DTSTART:20141109T020000Z
DTEND:20141109T050000Z
X-MICROSOFT-CDO-ALLDAYEVENT:FALSE
SUMMARY:Edible Science
DESCRIPTION:Incredible Edible Science: An Adventure in Molecular Gastronomy and Mixology Saturday\, November 8th\, 6-9pm World of Wonders Science Museum 2 N Sacramento St Lodi\, CA 95240 www.wowsciencemuseum.org Attention foodie's and science enthusiasts?the World of Wonders Science Museum announces their upcoming event mixing science and culinary arts! Well-known chefs from throughout the Valley will explore the chemical and physical transformations of edible ingredients while "WOW"ing your taste buds with molecular gastronomy! Couple that with Mixology\, the art and science of creating cocktails\, and we have the recipe for a night to remember. Come and enjoy this unique experience in support of the World of Wonders Science Museum on Saturday\, November 8th\, from 6 pm - 9 pm. This is a 21 and older engagement. Cost is $45/person $80/couple. For additional information\, contact Jen Young\, jen@wowsciencemuseum.org or call (209) 368-0969. www.wowsciencemuseum.org
X-ALT-DESC;FMTTYPE=text/html:Incredible Edible Science: An Adventure in Molecular Gastronomy and Mixology Saturday\, November 8th\, 6-9pm World of Wonders Science Museum 2 N Sacramento St Lodi\, CA 95240 www.wowsciencemuseum.org Attention foodie&#39\;s and science enthusiasts?the World of Wonders Science Museum announces their upcoming event mixing science and culinary arts! Well-known chefs from throughout the Valley will explore the chemical and physical transformations of edible ingredients while &quot\;WOW&quot\;ing your taste buds with molecular gastronomy! Couple that with Mixology\, the art and science of creating cocktails\, and we have the recipe for a night to remember. Come and enjoy this unique experience in support of the World of Wonders Science Museum on Saturday\, November 8th\, from 6 pm - 9 pm. This is a 21 and older engagement. Cost is $45/person $80/couple. For additional information\, contact Jen Young\, jen@wowsciencemuseum.org or call (209) 368-0969. www.wowsciencemuseum.org
LOCATION:2 N. Sacramento St Lodi\, CA 95240
UID:e.2050.332
SEQUENCE:3
DTSTAMP:20260419T215145Z
URL:https://business.lodichamber.com/events/details/edible-science-11-08-2014-332
END:VEVENT

END:VCALENDAR
