BEGIN:VCALENDAR
VERSION:2.0
PRODID:-//ChamberMaster//Event Calendar 2.0//EN
METHOD:PUBLISH
X-PUBLISHED-TTL:P3D
REFRESH-INTERVAL:P3D
CALSCALE:GREGORIAN
BEGIN:VEVENT
DTSTART:20160221T040000Z
DTEND:20160221T060000Z
X-MICROSOFT-CDO-ALLDAYEVENT:FALSE
SUMMARY:Elvis: The Early Years
DESCRIPTION:Scot Bruce is back as Elvis: The Early Years!\n\n\n\n"THE PERFORMANCE OF SCOT BRUCE AS ELVIS IS UNCANNY. EVERY NUANCE OF PRESLEYAN INFLECTION AND GYRATION HAS BEEN MASTERED. ONE TRULY HAS THE IMPRESSION OF BEING IN THE PRESENCE OF THE REAL THING."
X-ALT-DESC;FMTTYPE=text/html:Scot Bruce is back as Elvis: The Early Years!<br />\n<br />\n&quot\;THE PERFORMANCE OF SCOT BRUCE AS ELVIS IS UNCANNY. EVERY NUANCE OF PRESLEYAN INFLECTION AND GYRATION HAS BEEN MASTERED. ONE TRULY HAS THE IMPRESSION OF BEING IN THE PRESENCE OF THE REAL THING.&quot\;
LOCATION:Hutchins Street Square
UID:e.2050.955
SEQUENCE:3
DTSTAMP:20260420T131844Z
URL:https://business.lodichamber.com/events/details/elvis-the-early-years-02-20-2016-955
END:VEVENT

END:VCALENDAR
