BEGIN:VCALENDAR
VERSION:2.0
PRODID:-//ChamberMaster//Event Calendar 2.0//EN
METHOD:PUBLISH
X-PUBLISHED-TTL:P3D
REFRESH-INTERVAL:P3D
CALSCALE:GREGORIAN
BEGIN:VEVENT
DTSTART:20141214T200000Z
DTEND:20141214T200000Z
X-MICROSOFT-CDO-ALLDAYEVENT:FALSE
SUMMARY:Eric Darius & Friends
DESCRIPTION:One of the hottest contemporary jazz saxophonist and composers\, Eric is a native of New Jersey who grew up in Tampa Florida. His music has been described as a combination of Jazz\, R&B\, Pop and Acid / Hip Hop Jazz. He will be joined by Greg Chambers\, IMPROMP2 Johnny Britt\, and David Allen Mayfield.
X-ALT-DESC;FMTTYPE=text/html:One of the hottest contemporary jazz saxophonist and composers\, Eric is a native of New Jersey who grew up in Tampa Florida. His music has been described as a combination of Jazz\, R&amp\;B\, Pop and Acid / Hip Hop Jazz. He will be joined by Greg Chambers\, IMPROMP2 Johnny Britt\, and David Allen Mayfield.
LOCATION:Hutchins Street Square 125 S. Hutchins St. Lodi\, CA 95240
UID:e.2050.340
SEQUENCE:3
DTSTAMP:20260421T085014Z
URL:https://business.lodichamber.com/events/details/eric-darius-friends-12-14-2014-340
END:VEVENT

END:VCALENDAR
