BEGIN:VCALENDAR
VERSION:2.0
PRODID:-//ChamberMaster//Event Calendar 2.0//EN
METHOD:PUBLISH
X-PUBLISHED-TTL:P3D
REFRESH-INTERVAL:P3D
CALSCALE:GREGORIAN
BEGIN:VEVENT
DTSTART:20150501T003000Z
DTEND:20150501T020000Z
X-MICROSOFT-CDO-ALLDAYEVENT:FALSE
SUMMARY:Essential Plumbing Ribbon Cutting at Weibel Tasting Room
DESCRIPTION:Join us in welcoming Essential Plumbing to the Chamber Family with their Ribbon Cutting!
X-ALT-DESC;FMTTYPE=text/html:Join us in welcoming Essential Plumbing to the Chamber Family with their Ribbon Cutting!
LOCATION:Weibel Tasting Room 13 N. School Street Lodi
UID:e.2050.581
SEQUENCE:3
DTSTAMP:20260421T031744Z
URL:https://business.lodichamber.com/events/details/essential-plumbing-ribbon-cutting-at-weibel-tasting-room-04-30-2015-581
END:VEVENT

END:VCALENDAR
