BEGIN:VCALENDAR
VERSION:2.0
PRODID:-//ChamberMaster//Event Calendar 2.0//EN
METHOD:PUBLISH
X-PUBLISHED-TTL:P3D
REFRESH-INTERVAL:P3D
CALSCALE:GREGORIAN
BEGIN:VEVENT
DTSTART:20160429T020000Z
DTEND:20160429T040000Z
X-MICROSOFT-CDO-ALLDAYEVENT:FALSE
SUMMARY:Ethan Bortnick
DESCRIPTION:
X-ALT-DESC;FMTTYPE=text/html:
LOCATION:Hutchins Street Square
UID:e.2050.985
SEQUENCE:3
DTSTAMP:20260420T100811Z
URL:https://business.lodichamber.com/events/details/ethan-bortnick-04-28-2016-985
END:VEVENT

END:VCALENDAR
