BEGIN:VCALENDAR
VERSION:2.0
PRODID:-//ChamberMaster//Event Calendar 2.0//EN
METHOD:PUBLISH
X-PUBLISHED-TTL:P3D
REFRESH-INTERVAL:P3D
CALSCALE:GREGORIAN
BEGIN:VEVENT
DTSTART;VALUE=DATE:20140929
DTEND;VALUE=DATE:20141011
TRANSP:TRANSPARENT
X-MICROSOFT-CDO-ALLDAYEVENT:TRUE
SUMMARY:Fall Day Camp
DESCRIPTION:Looking for a great all day program for your child this fall? Bear Creek Community Church presents two weeks of Fall Day Camp for children first through eighth grade! From September 29th through October 10\, full day or extended day\, your child will enjoy fun and games\, crafts\, sports\, skits\, devotionals\, music\, friendships\, and weekly field trips. Register for one or both weeks! Don?t miss out on all of the fun! Conveniently located between Stockton and Lodi. Call 951-9229 or go to bearcreekchurch.com today!
X-ALT-DESC;FMTTYPE=text/html:Looking for a great all day program for your child this fall? Bear Creek Community Church presents two weeks of Fall Day Camp for children first through eighth grade! From September 29th through October 10\, full day or extended day\, your child will enjoy fun and games\, crafts\, sports\, skits\, devotionals\, music\, friendships\, and weekly field trips. Register for one or both weeks! Don?t miss out on all of the fun! Conveniently located between Stockton and Lodi. Call 951-9229 or go to bearcreekchurch.com today!
LOCATION:Bear Creek Community Church 11171 N Lower Sacramento Rd Lodi\, CA 95242
UID:e.2050.321
SEQUENCE:3
DTSTAMP:20260421T113945Z
URL:https://business.lodichamber.com/events/details/fall-day-camp-09-29-2014-321
END:VEVENT

END:VCALENDAR
