BEGIN:VCALENDAR
VERSION:2.0
PRODID:-//ChamberMaster//Event Calendar 2.0//EN
METHOD:PUBLISH
X-PUBLISHED-TTL:P3D
REFRESH-INTERVAL:P3D
CALSCALE:GREGORIAN
BEGIN:VEVENT
DTSTART:20151023T150000Z
DTEND:20151023T191500Z
X-MICROSOFT-CDO-ALLDAYEVENT:FALSE
SUMMARY:Family Health Challenge
DESCRIPTION:Get ready for the first annual family health challenge\, health & wellness event. Sign up to participate\, experience our obstacle courses designed for all ages...preschool to adult or just come to learn more from our wide variety of vendors who's focus is to improve whole body health. There is something for everyone
X-ALT-DESC;FMTTYPE=text/html:Get ready for the first annual family health challenge\, health &amp\; wellness event. Sign up to participate\, experience our obstacle courses designed for all ages...preschool to adult or just come to learn more from our wide variety of vendors who&#39\;s focus is to improve whole body health. There is something for everyone
LOCATION:801 S. Lower Sacramento St. Lodi\, CA 95242
UID:e.2050.923
SEQUENCE:3
DTSTAMP:20260420T202835Z
URL:https://business.lodichamber.com/events/details/family-health-challenge-10-23-2015-923
END:VEVENT

END:VCALENDAR
