BEGIN:VCALENDAR
VERSION:2.0
PRODID:-//ChamberMaster//Event Calendar 2.0//EN
METHOD:PUBLISH
X-PUBLISHED-TTL:P3D
REFRESH-INTERVAL:P3D
CALSCALE:GREGORIAN
BEGIN:VEVENT
DTSTART:20150214T030000Z
DTEND:20150214T050000Z
X-MICROSOFT-CDO-ALLDAYEVENT:FALSE
SUMMARY:Family Movie Nite For Valentine's Day
DESCRIPTION:"Sleepless In Seattle" *Food and Beverages Available for Purchase
X-ALT-DESC;FMTTYPE=text/html:&quot\;Sleepless In Seattle&quot\; *Food and Beverages Available for Purchase
LOCATION:Hutchins Street Square 125 S. Hutchins St. Lodi\, CA 95240
UID:e.2050.360
SEQUENCE:3
DTSTAMP:20260421T060211Z
URL:https://business.lodichamber.com/events/details/family-movie-nite-for-valentine-s-day-02-13-2015-360
END:VEVENT

END:VCALENDAR
