BEGIN:VCALENDAR
VERSION:2.0
PRODID:-//ChamberMaster//Event Calendar 2.0//EN
METHOD:PUBLISH
X-PUBLISHED-TTL:P3D
REFRESH-INTERVAL:P3D
CALSCALE:GREGORIAN
BEGIN:VEVENT
DTSTART:20150305T153000Z
DTEND:20150306T003000Z
X-MICROSOFT-CDO-ALLDAYEVENT:FALSE
SUMMARY:Farm Safety Day
DESCRIPTION:This event is for farm workers on whom we depend on a daily basis. The stellar UC Davis program provides valuable tools not only for your workers but also to you as an employer. Your employees are gaining invaluable safety training which is recognized by the Ag Commissioner's Office and you\, as the employer\, knowing your workers are receiving the training that is required to be renewed yearly.
X-ALT-DESC;FMTTYPE=text/html:This event is for farm workers on whom we depend on a daily basis. The stellar UC Davis program provides valuable tools not only for your workers but also to you as an employer. Your employees are gaining invaluable safety training which is recognized by the Ag Commissioner&#39\;s Office and you\, as the employer\, knowing your workers are receiving the training that is required to be renewed yearly.
LOCATION:Lodi Grape Festival Grounds Lodi
UID:e.2050.348
SEQUENCE:3
DTSTAMP:20260421T043029Z
URL:https://business.lodichamber.com/events/details/farm-safety-day-03-05-2015-348
END:VEVENT

END:VCALENDAR
