BEGIN:VCALENDAR
VERSION:2.0
PRODID:-//ChamberMaster//Event Calendar 2.0//EN
METHOD:PUBLISH
X-PUBLISHED-TTL:P3D
REFRESH-INTERVAL:P3D
CALSCALE:GREGORIAN
BEGIN:VEVENT
DTSTART:20140516T010000Z
DTEND:20140516T023000Z
X-MICROSOFT-CDO-ALLDAYEVENT:FALSE
SUMMARY:Farm to Feast With A Twist of Zin
DESCRIPTION:Celebrate the opening of Farmers Market and the 10th Anniversary of Zin Fest with a special wine tasting/food pairing with fresh ingredients found at the Market.
X-ALT-DESC;FMTTYPE=text/html:Celebrate the opening of Farmers Market and the 10th Anniversary of Zin Fest with a special wine tasting/food pairing with fresh ingredients found at the Market.&nbsp\;
LOCATION:Post Office Plaza Downtown Lodi
UID:e.2050.268
SEQUENCE:3
DTSTAMP:20260421T191217Z
URL:https://business.lodichamber.com/events/details/farm-to-feast-with-a-twist-of-zin-05-15-2014-268
END:VEVENT

END:VCALENDAR
