BEGIN:VCALENDAR
VERSION:2.0
PRODID:-//ChamberMaster//Event Calendar 2.0//EN
METHOD:PUBLISH
X-PUBLISHED-TTL:P3D
REFRESH-INTERVAL:P3D
CALSCALE:GREGORIAN
BEGIN:VEVENT
DTSTART:20140322T170000Z
DTEND:20140323T010000Z
X-MICROSOFT-CDO-ALLDAYEVENT:FALSE
SUMMARY:Fashion Safari Accessories - VIP Party
DESCRIPTION:Stop by Fashion Safari Accessories to enjoy their Spring Fashion Preview! The day includes refreshments\, storewide specials and a strolling fashion show!
X-ALT-DESC;FMTTYPE=text/html:Stop by Fashion Safari Accessories to enjoy their Spring Fashion Preview! The day includes refreshments\, storewide&nbsp\;specials and a strolling fashion show!
LOCATION:9 N. School Street
UID:e.2050.243
SEQUENCE:3
DTSTAMP:20260421T222753Z
URL:https://business.lodichamber.com/events/details/fashion-safari-accessories-vip-party-03-22-2014-243
END:VEVENT

END:VCALENDAR
