BEGIN:VCALENDAR
VERSION:2.0
PRODID:-//ChamberMaster//Event Calendar 2.0//EN
METHOD:PUBLISH
X-PUBLISHED-TTL:P3D
REFRESH-INTERVAL:P3D
CALSCALE:GREGORIAN
BEGIN:VEVENT
DTSTART:20150621T170000Z
DTEND:20150621T220000Z
X-MICROSOFT-CDO-ALLDAYEVENT:FALSE
SUMMARY:Father's Day at Micke Grove Zoo
DESCRIPTION:June 21 is a big day for dads at Micke Grove Zoo! We expect to see hundreds of Papa Bears with their little cubs in tow exploring the Zoo as they go on a Bear ?Scavenger? Hunt. Need a gift idea for Dad? Adopt an animal for dad for Father's Day online at http://www.mgzoo.com/zoo/micke-grove/animals-conservation/zoo-parent.htm
X-ALT-DESC;FMTTYPE=text/html:June 21 is a big day for dads at Micke Grove Zoo! We expect to see hundreds of Papa Bears with their little cubs in tow exploring the Zoo as they go on a Bear ?Scavenger? Hunt. Need a gift idea for Dad? Adopt an animal for dad for Father&#39\;s Day online at http://www.mgzoo.com/zoo/micke-grove/animals-conservation/zoo-parent.htm
LOCATION:Micke Grove Zoo 11793 N. Micke Grove Road Lodi\, CA 95240
UID:e.2050.605
SEQUENCE:3
DTSTAMP:20260421T004412Z
URL:https://business.lodichamber.com/events/details/father-s-day-at-micke-grove-zoo-06-21-2015-605
END:VEVENT

END:VCALENDAR
