BEGIN:VCALENDAR
VERSION:2.0
PRODID:-//ChamberMaster//Event Calendar 2.0//EN
METHOD:PUBLISH
X-PUBLISHED-TTL:P3D
REFRESH-INTERVAL:P3D
CALSCALE:GREGORIAN
BEGIN:VEVENT
DTSTART:20150605T011500Z
DTEND:20150605T020000Z
X-MICROSOFT-CDO-ALLDAYEVENT:FALSE
SUMMARY:Fete Ribbon Cutting
DESCRIPTION:Join us for Fete's Ribbon Cutting!
X-ALT-DESC;FMTTYPE=text/html:Join us for Fete&#39\;s Ribbon Cutting!
LOCATION:At Lodi Farmers Market
UID:e.2050.826
SEQUENCE:3
DTSTAMP:20260421T004107Z
URL:https://business.lodichamber.com/events/details/fete-ribbon-cutting-06-04-2015-826
END:VEVENT

END:VCALENDAR
