BEGIN:VCALENDAR
VERSION:2.0
PRODID:-//ChamberMaster//Event Calendar 2.0//EN
METHOD:PUBLISH
X-PUBLISHED-TTL:P3D
REFRESH-INTERVAL:P3D
CALSCALE:GREGORIAN
BEGIN:VEVENT
DTSTART:20140901T140000Z
DTEND:20140901T210000Z
X-MICROSOFT-CDO-ALLDAYEVENT:FALSE
SUMMARY:Field and Fair Day
DESCRIPTION:The Hutchins Street Square Foundation is pleased to announce the revival of a classic Labor Day Lodi tradition - Field and Fair Day is back! Get up early for the RE/MAX Hot Air Balloon launch\, and stay for a fun-filled family day at the Square. The event will feature a pancake breakfast\, carnival games\, bounce houses\, local entertainment stage\, food truck alley\, vendor zone\, and demonstrations from our local fire\, police\, SWAT and K-9 units.
X-ALT-DESC;FMTTYPE=text/html:The Hutchins Street Square Foundation is pleased to announce the revival of a classic Labor Day Lodi tradition - Field and Fair Day is back! Get up early for the RE/MAX Hot Air Balloon launch\, and stay for a fun-filled family day at the Square. The event will feature a pancake breakfast\, carnival games\, bounce houses\, local entertainment stage\, food truck alley\, vendor zone\, and demonstrations from our local fire\, police\, SWAT and K-9 units.
LOCATION:Hutchins Street Square 125 S. Hutchins Lodi\, CA. 95240
UID:e.2050.294
SEQUENCE:3
DTSTAMP:20260421T144926Z
URL:https://business.lodichamber.com/events/details/field-and-fair-day-09-01-2014-294
END:VEVENT

END:VCALENDAR
