BEGIN:VCALENDAR
VERSION:2.0
PRODID:-//ChamberMaster//Event Calendar 2.0//EN
METHOD:PUBLISH
X-PUBLISHED-TTL:P3D
REFRESH-INTERVAL:P3D
CALSCALE:GREGORIAN
BEGIN:VEVENT
DTSTART:20140301T200000Z
DTEND:20140501T190000Z
X-MICROSOFT-CDO-ALLDAYEVENT:FALSE
SUMMARY:Fine Arts Competition
DESCRIPTION:Poster art competition with the theme Celebrate: Together in Diversity! -Adult\, High School and Middle School Divisions -Cash awards and First Friday Art Hop and Lodi Public Library exhibition -Artists must live within Lodi Unified boundaries -For application and guidelines\, email breakthroughartcompetition@gmail.com
X-ALT-DESC;FMTTYPE=text/html:Poster art competition with the theme Celebrate: Together in Diversity! -Adult\, High School and Middle School Divisions -Cash awards and First Friday Art Hop and Lodi Public Library exhibition -Artists must live within Lodi Unified boundaries -For application and guidelines\, email breakthroughartcompetition@gmail.com
LOCATION:Artists selected will be displayed at the First Friday Art Hop in June\, 2014\, and at the Lodi Public Library in June
UID:e.2050.231
SEQUENCE:3
DTSTAMP:20260421T190824Z
URL:https://business.lodichamber.com/events/details/fine-arts-competition-03-01-2014-231
END:VEVENT

END:VCALENDAR
