BEGIN:VCALENDAR
VERSION:2.0
PRODID:-//ChamberMaster//Event Calendar 2.0//EN
METHOD:PUBLISH
X-PUBLISHED-TTL:P3D
REFRESH-INTERVAL:P3D
CALSCALE:GREGORIAN
BEGIN:VEVENT
DTSTART:20160305T020000Z
DTEND:20160305T043000Z
X-MICROSOFT-CDO-ALLDAYEVENT:FALSE
SUMMARY:First Friday Art Hop
DESCRIPTION:
X-ALT-DESC;FMTTYPE=text/html:
LOCATION:Hutchins Street Square
UID:e.2050.958
SEQUENCE:3
DTSTAMP:20260420T113950Z
URL:https://business.lodichamber.com/events/details/first-friday-art-hop-03-04-2016-958
END:VEVENT

END:VCALENDAR
