BEGIN:VCALENDAR
VERSION:2.0
PRODID:-//ChamberMaster//Event Calendar 2.0//EN
METHOD:PUBLISH
X-PUBLISHED-TTL:P3D
REFRESH-INTERVAL:P3D
CALSCALE:GREGORIAN
BEGIN:VEVENT
DTSTART:20140531T020000Z
DTEND:20140531T050000Z
X-MICROSOFT-CDO-ALLDAYEVENT:FALSE
SUMMARY:Food Friday with Mike Midgley
DESCRIPTION:Join us as Top Chef and Cut Throat Kitchen contestant\, Mike Midgley pairs some delectable appetizers with our salivating wines. This is an event not to miss!
X-ALT-DESC;FMTTYPE=text/html:Join us as Top Chef and Cut Throat Kitchen contestant\, Mike Midgley pairs some delectable appetizers with our salivating wines. This is an event not to miss!
LOCATION:Lodi's Wine Social 7 N. School Street Lodi\, CA 95240
UID:e.2050.276
SEQUENCE:3
DTSTAMP:20260421T204905Z
URL:https://business.lodichamber.com/events/details/food-friday-with-mike-midgley-05-30-2014-276
END:VEVENT

END:VCALENDAR
