BEGIN:VCALENDAR
VERSION:2.0
PRODID:-//ChamberMaster//Event Calendar 2.0//EN
METHOD:PUBLISH
X-PUBLISHED-TTL:P3D
REFRESH-INTERVAL:P3D
CALSCALE:GREGORIAN
BEGIN:VEVENT
DTSTART:20150422T160000Z
DTEND:20150422T190000Z
X-MICROSOFT-CDO-ALLDAYEVENT:FALSE
SUMMARY:FREE Document Shredding at Central Valley Community Bank ? Lodi
DESCRIPTION:Shred your old documents and confidential files safely and securely. Watch your unwanted papers be shredded onsite\, FREE of charge\, courtesy of Central Valley Community Bank and Pacific Shredding. Shredding services are limited to 4 banker boxes per person or business\, up to the shredding truck capacity. Guidelines: Shredding service requests above the 4 box limit may be taken to Pacific Shredding for a fee. Paper documents only! Remove any unrelated items in advance.
X-ALT-DESC;FMTTYPE=text/html:Shred your old documents and confidential files safely and securely. Watch your unwanted papers be shredded onsite\, FREE of charge\, courtesy of Central Valley Community Bank and Pacific Shredding. Shredding services are limited to 4 banker boxes per person or business\, up to the shredding truck capacity. Guidelines: Shredding service requests above the 4 box limit may be taken to Pacific Shredding for a fee. Paper documents only! Remove any unrelated items in advance.
LOCATION:Central Valley Community Bank 1901 W. Kettleman Lane\, Suite 100 Lodi\, California. 95242
UID:e.2050.419
SEQUENCE:3
DTSTAMP:20260421T043326Z
URL:https://business.lodichamber.com/events/details/free-document-shredding-at-central-valley-community-bank-lodi-04-22-2015-419
END:VEVENT

END:VCALENDAR
