BEGIN:VCALENDAR
VERSION:2.0
PRODID:-//ChamberMaster//Event Calendar 2.0//EN
METHOD:PUBLISH
X-PUBLISHED-TTL:P3D
REFRESH-INTERVAL:P3D
CALSCALE:GREGORIAN
BEGIN:VEVENT
DTSTART:20160413T160000Z
DTEND:20160413T190000Z
X-MICROSOFT-CDO-ALLDAYEVENT:FALSE
SUMMARY:FREE Document Shredding at Central Valley Community Bank ? Merced Branch
DESCRIPTION:Shred your old documents and confidential files safely and securely. Watch your unwanted papers be shredded onsite\, FREE of charge\, courtesy of Central Valley Community Bank and Pacific Shredding. Shredding services are limited to 4 banker boxes per person or business\, up to the shredding truck capacity. Guidelines: Shredding service requests above the 4 box limit may be taken to Pacific Shredding for a fee. Paper documents only! Remove any unrelated items in advance. For a full list of dates & locations\, visit cvcb.com
X-ALT-DESC;FMTTYPE=text/html:Shred your old documents and confidential files safely and securely. Watch your unwanted papers be shredded onsite\, FREE of charge\, courtesy of Central Valley Community Bank and Pacific Shredding. Shredding services are limited to 4 banker boxes per person or business\, up to the shredding truck capacity. Guidelines: Shredding service requests above the 4 box limit may be taken to Pacific Shredding for a fee. Paper documents only! Remove any unrelated items in advance. For a full list of dates &amp\; locations\, visit cvcb.com
LOCATION:3337 G. Street\, Suite B Merced\, CA 95340 (209) 725-2820
UID:e.2050.980
SEQUENCE:3
DTSTAMP:20260420T101357Z
URL:https://business.lodichamber.com/events/details/free-document-shredding-at-central-valley-community-bank-merced-branch-04-13-2016-980
END:VEVENT

END:VCALENDAR
