BEGIN:VCALENDAR
VERSION:2.0
PRODID:-//ChamberMaster//Event Calendar 2.0//EN
METHOD:PUBLISH
X-PUBLISHED-TTL:P3D
REFRESH-INTERVAL:P3D
CALSCALE:GREGORIAN
BEGIN:VEVENT
DTSTART:20150228T023000Z
DTEND:20150228T043000Z
X-MICROSOFT-CDO-ALLDAYEVENT:FALSE
SUMMARY:Free Family Movie Nights
DESCRIPTION:Looking for some Friday Night Fun for the whole family? Bear Creek Community Church presents Movie Nights on Fridays\, January 30\, and February 27. Craft time at 6:30 with a feature film at 7:00 p.m. Come watch a movie on the big screen in the Teen Tent. Candy\, Nachos\, Popcorn\, Hot Coco\, and more for only $1 each. Bring blankets and lawn chairs for extra comfort. Don?t miss out on all of the fun! Conveniently located between Stockton and Lodi. Call 369-2202 or 951-9229 or go to www.bearcreekchurch.com today!
X-ALT-DESC;FMTTYPE=text/html:Looking for some Friday Night Fun for the whole family? Bear Creek Community Church presents Movie Nights on Fridays\, January 30\, and February 27. Craft time at 6:30 with a feature film at 7:00 p.m. Come watch a movie on the big screen in the Teen Tent. Candy\, Nachos\, Popcorn\, Hot Coco\, and more for only $1 each. Bring blankets and lawn chairs for extra comfort. Don?t miss out on all of the fun! Conveniently located between Stockton and Lodi. Call 369-2202 or 951-9229 or go to www.bearcreekchurch.com today!
LOCATION:Bear Creek Community Church 11171 N Lower Sacramento Rd Lodi\, CA 95242
UID:e.2050.366
SEQUENCE:3
DTSTAMP:20260421T060047Z
URL:https://business.lodichamber.com/events/details/free-family-movie-nights-02-27-2015-366
END:VEVENT

END:VCALENDAR
