BEGIN:VCALENDAR
VERSION:2.0
PRODID:-//ChamberMaster//Event Calendar 2.0//EN
METHOD:PUBLISH
X-PUBLISHED-TTL:P3D
REFRESH-INTERVAL:P3D
CALSCALE:GREGORIAN
BEGIN:VEVENT
DTSTART:20140416T160000Z
DTEND:20140416T190000Z
X-MICROSOFT-CDO-ALLDAYEVENT:FALSE
SUMMARY:FREE Shredding Service at Central Valley Community Bank - Merced Branch
DESCRIPTION:Shred your old documents and confidential files safely and securely. You can watch your unwanted papers be shredded on-site\, FREE of charge\, courtesy of Central Valley Community Bank and Pacific Shredding. Shredding services are limited to 6 banker boxes per person or business up to the shredding truck capacity.  * Shredding service requests above the 6 box limit will be referred to an alternate location for an additional charge
X-ALT-DESC;FMTTYPE=text/html:Shred your old documents and confidential files safely and securely. You can watch your unwanted papers be shredded on-site\, FREE of charge\, courtesy of Central Valley Community Bank and Pacific Shredding. Shredding services are limited to 6 banker boxes per person or business up to the shredding truck capacity.&nbsp\; * Shredding service requests above the 6 box limit will be referred to an alternate location for an additional charge
LOCATION:3337 G. Street\, Ste. B - Merced
UID:e.2050.241
SEQUENCE:3
DTSTAMP:20260421T222659Z
URL:https://business.lodichamber.com/events/details/free-shredding-service-at-central-valley-community-bank-merced-branch-04-16-2014-241
END:VEVENT

END:VCALENDAR
