BEGIN:VCALENDAR
VERSION:2.0
PRODID:-//ChamberMaster//Event Calendar 2.0//EN
METHOD:PUBLISH
X-PUBLISHED-TTL:P3D
REFRESH-INTERVAL:P3D
CALSCALE:GREGORIAN
BEGIN:VEVENT
DTSTART:20140423T160000Z
DTEND:20140423T190000Z
X-MICROSOFT-CDO-ALLDAYEVENT:FALSE
SUMMARY:FREE Shredding Service at Central Valley Community Bank - Modesto Branch
DESCRIPTION:Shred your old documents and confidential files safely and securely. You can watch your unwanted papers be shredded on-site\, FREE of charge\, courtesy of Central Valley Community Bank and Pacific Shredding. Shredding services are limited to 6 banker boxes per person or business up to the shredding truck capacity.  * Shredding service requests above the 6 box limit will be referred to an alternate location for an additional charge
X-ALT-DESC;FMTTYPE=text/html:Shred your old documents and confidential files safely and securely. You can watch your unwanted papers be shredded on-site\, FREE of charge\, courtesy of Central Valley Community Bank and Pacific Shredding. Shredding services are limited to 6 banker boxes per person or business up to the shredding truck capacity.&nbsp\; * Shredding service requests above the 6 box limit will be referred to an alternate location for an additional charge
LOCATION:2020 Standiford Ave.\, Ste. H - Modesto
UID:e.2050.240
SEQUENCE:3
DTSTAMP:20260421T205722Z
URL:https://business.lodichamber.com/events/details/free-shredding-service-at-central-valley-community-bank-modesto-branch-04-23-2014-240
END:VEVENT

END:VCALENDAR
