BEGIN:VCALENDAR
VERSION:2.0
PRODID:-//ChamberMaster//Event Calendar 2.0//EN
METHOD:PUBLISH
X-PUBLISHED-TTL:P3D
REFRESH-INTERVAL:P3D
CALSCALE:GREGORIAN
BEGIN:VEVENT
DTSTART:20140724T163000Z
DTEND:20140725T030000Z
X-MICROSOFT-CDO-ALLDAYEVENT:FALSE
SUMMARY:Fresno Food Expo
DESCRIPTION:Participate in the largest regional food show in the Nation! Showcasing 140 exhibitors ranging from food producers\, manufacturers and growers to winemakers and brewers from California's agriculturally rich San Joaquin Valley  the Fresno Food Expo\, presented by Union Bank\, is a must attend!  Exhibitors can meet with food enthusiasts looking to discover local products\, as well as nearly 700 qualified local\, national and international buyers from various buying categories ranging from retail chains and foodservice distributors to California-based restaurants/chefs and large government agencies/hospitality venues all looking to find quality food products. Both a business-to-business portion as well as a public event will be held. Spaces are filling up fast\, so hurry and sign up today! Exhibitor booth cost ranges from $775 - $1\,100. Buyers must pre-register but can attend for free. For more information\, go to www.FresnoFoodExpo.com
X-ALT-DESC;FMTTYPE=text/html:Participate in the largest regional food show in the Nation! Showcasing 140 exhibitors ranging from food producers\, manufacturers and growers to winemakers and brewers from California&#39\;s agriculturally rich San Joaquin Valley &nbsp\;the Fresno Food Expo\, presented by Union Bank\, is a must attend! &nbsp\;Exhibitors can meet with food enthusiasts looking to discover local products\, as well as nearly 700 qualified local\, national and international buyers from various buying categories ranging from retail chains and foodservice distributors to California-based restaurants/chefs and large government agencies/hospitality venues all looking to find quality food products. Both a business-to-business portion as well as a public event will be held. Spaces are filling up fast\, so hurry and sign up today! Exhibitor booth cost ranges from $775 - $1\,100. Buyers must pre-register but can attend for free. For more information\, go to www.FresnoFoodExpo.com
LOCATION:Fresno Convention Center and Entertainment Center 848 M. Street\, Fresno\, CA 93721
UID:e.2050.258
SEQUENCE:3
DTSTAMP:20260420T040546Z
URL:https://business.lodichamber.com/events/details/fresno-food-expo-07-24-2014-258
END:VEVENT

END:VCALENDAR
