BEGIN:VCALENDAR
VERSION:2.0
PRODID:-//ChamberMaster//Event Calendar 2.0//EN
METHOD:PUBLISH
X-PUBLISHED-TTL:P3D
REFRESH-INTERVAL:P3D
CALSCALE:GREGORIAN
BEGIN:VEVENT
DTSTART:20140503T000000Z
DTEND:20140503T040000Z
X-MICROSOFT-CDO-ALLDAYEVENT:FALSE
SUMMARY:FRIDAY NIGHT LIVE!
DESCRIPTION:Join us every Friday Night as we bring you the best way to kick off your weekend! We will feature Macchia Winery with complimentary wine tasting. we will also have the 209 All Stars Live on stage! New Wineries and Bands each Friday Night!
X-ALT-DESC;FMTTYPE=text/html:Join us every Friday Night as we bring you the best way to kick off your weekend! We will feature Macchia Winery with complimentary wine tasting. we will also have the 209 All Stars Live on stage! New Wineries and Bands each Friday Night!&nbsp\;
LOCATION:VINTAGE SPORTS GRILL
UID:e.2050.256
SEQUENCE:3
DTSTAMP:20260421T190747Z
URL:https://business.lodichamber.com/events/details/friday-night-live-05-02-2014-256
END:VEVENT

END:VCALENDAR
