BEGIN:VCALENDAR
VERSION:2.0
PRODID:-//ChamberMaster//Event Calendar 2.0//EN
METHOD:PUBLISH
X-PUBLISHED-TTL:P3D
REFRESH-INTERVAL:P3D
CALSCALE:GREGORIAN
BEGIN:VEVENT
DTSTART:20150521T003000Z
DTEND:20150521T020000Z
X-MICROSOFT-CDO-ALLDAYEVENT:FALSE
SUMMARY:Geweke Auto & RV Collision Center Ribbon Cutting
DESCRIPTION:Celebrate Geweke Auto & RV Collision Center's Ribbon cutting!
X-ALT-DESC;FMTTYPE=text/html:Celebrate Geweke&nbsp\;Auto &amp\; RV Collision Center&#39\;s Ribbon cutting!
LOCATION:102 Hansen Drive
UID:e.2050.824
SEQUENCE:3
DTSTAMP:20260421T020435Z
URL:https://business.lodichamber.com/events/details/geweke-auto-rv-collision-center-ribbon-cutting-05-20-2015-824
END:VEVENT

END:VCALENDAR
