BEGIN:VCALENDAR
VERSION:2.0
PRODID:-//ChamberMaster//Event Calendar 2.0//EN
METHOD:PUBLISH
X-PUBLISHED-TTL:P3D
REFRESH-INTERVAL:P3D
CALSCALE:GREGORIAN
BEGIN:VEVENT
DTSTART:20160117T020000Z
DTEND:20160117T020000Z
X-MICROSOFT-CDO-ALLDAYEVENT:FALSE
SUMMARY:Got Kids Foundation First Annual Crab Feed Fundraiser
DESCRIPTION:Got Kids Foundation presents it's First Annual Crab Feed Fundraiser!\n\n\n\nFeaturing: \n\nRaffle\n\nSilent Auction\n\nNo Host Bar\n\nDessert Auction
X-ALT-DESC;FMTTYPE=text/html:Got Kids Foundation presents it&#39\;s First Annual Crab Feed Fundraiser!<br />\n<br />\nFeaturing:&nbsp\;<br />\nRaffle<br />\nSilent Auction<br />\nNo Host Bar<br />\nDessert Auction
LOCATION:Lodi Japanese Community Hall Saturday\, January 16\, 2016 210 E. Elm Street\, Lodi
UID:e.2050.952
SEQUENCE:3
DTSTAMP:20260420T143419Z
URL:https://business.lodichamber.com/events/details/got-kids-foundation-first-annual-crab-feed-fundraiser-01-16-2016-952
END:VEVENT

END:VCALENDAR
