BEGIN:VCALENDAR
VERSION:2.0
PRODID:-//ChamberMaster//Event Calendar 2.0//EN
METHOD:PUBLISH
X-PUBLISHED-TTL:P3D
REFRESH-INTERVAL:P3D
CALSCALE:GREGORIAN
BEGIN:VEVENT
DTSTART:20150913T000000Z
DTEND:20150913T050000Z
X-MICROSOFT-CDO-ALLDAYEVENT:FALSE
SUMMARY:Grace and Mercy Fundraiser and Fashion Show
DESCRIPTION:An evening of Southern Hospitality. Texas BBQ with all the trimmings. \n\n\n\nLiver musice by Dejay Mullings and other enterainment to include\n\n\n\nA best country outfit with a cash prize\n\nGuest speaker\, bean bag toss\, horsehoe tournament\, sack race\, little bit of this and that!!!\n\nGuaranteed to be a fun evening.
X-ALT-DESC;FMTTYPE=text/html:An evening of Southern Hospitality. Texas BBQ with all the trimmings.&nbsp\;<br />\n<br />\nLiver musice by Dejay Mullings and other enterainment to include<br />\n<br />\nA best country outfit with a cash prize<br />\nGuest speaker\, bean bag toss\, horsehoe tournament\, sack race\, little bit of this and that!!!<br />\nGuaranteed to be a fun evening.<br />\n<br />\n&nbsp\;
LOCATION:M2 Winery
UID:e.2050.885
SEQUENCE:3
DTSTAMP:20260420T203136Z
URL:https://business.lodichamber.com/events/details/grace-and-mercy-fundraiser-and-fashion-show-09-12-2015-885
END:VEVENT

END:VCALENDAR
