BEGIN:VCALENDAR
VERSION:2.0
PRODID:-//ChamberMaster//Event Calendar 2.0//EN
METHOD:PUBLISH
X-PUBLISHED-TTL:P3D
REFRESH-INTERVAL:P3D
CALSCALE:GREGORIAN
BEGIN:VEVENT
DTSTART:20160213T180000Z
DTEND:20160214T000000Z
X-MICROSOFT-CDO-ALLDAYEVENT:FALSE
SUMMARY:Grape City Con
DESCRIPTION:Lodi\, Calif. ? The Grape City Con\, returns to the Lodi Grape Festival Grounds on Saturday\, February 13\, 2016. The one-day pop culture convention will run from 10am-4pm. The first Grape City Con\, held this past February exceeded expectations with over 2\,500 fans turning out for the event. Ticket prices for the one-day event are $7 at the door and $5 in advance at select locations and online (information to be announced soon). The event will again feature over 100 exhibitors and artists\, with more than 40\,000 square feet of exhibitors\, artists\, panels and gaming. The Chase Chevrolet Costume Contest will take place in Jackson Hall at 3pm. A portion of the proceeds from the Grape City Con will benefit the Salvation Army Lodi and the United Way. Pro Wrestling Bushido will again hold an afternoon wrestling show just outside the main halls. Several celebrities will highlight this year?s guest list\, with more to be announced soon. Former WWE Superstars Chavo Guerrero and Lisa Marie Varon (Victoria)\, will both be at the C. Andrew Nelson has appeared in the Star Wars series. Legends of the Dark Knight writer and artist Dan Brereton will highlight Artist Alley. The mission of StocktonCon\, the Grape City Con and the Central Valley Con is to raise awareness of outstanding artists in the San Joaquin Valley area ? and to give attendees the chance to experience Popular Culture (Comics\, Card Games\, Video Games\, Cards\, Anime\, Manga\, Science Fiction\, Toys\, Television and Movies). It is also Central Valley Con?s intention to raise awareness and funds in conjunction with United Way of San Joaquin County and the Salvation Army of Lodi. You can follow the Grape City Con on Twitter by using the @grapecitycon username. Potential vendors and artists can join the information list by sending a note to GrapeCityCon@yahoo.com http://facebook.com/grapecitycon http://twitter.com/grapecitycon
X-ALT-DESC;FMTTYPE=text/html:Lodi\, Calif. ? The Grape City Con\, returns to the Lodi Grape Festival Grounds on Saturday\, February 13\, 2016. The one-day pop culture convention will run from 10am-4pm. The first Grape City Con\, held this past February exceeded expectations with over 2\,500 fans turning out for the event. Ticket prices for the one-day event are $7 at the door and $5 in advance at select locations and online (information to be announced soon). The event will again feature over 100 exhibitors and artists\, with more than 40\,000 square feet of exhibitors\, artists\, panels and gaming. The Chase Chevrolet Costume Contest will take place in Jackson Hall at 3pm. A portion of the proceeds from the Grape City Con will benefit the Salvation Army Lodi and the United Way. Pro Wrestling Bushido will again hold an afternoon wrestling show just outside the main halls. Several celebrities will highlight this year?s guest list\, with more to be announced soon. Former WWE Superstars Chavo Guerrero and Lisa Marie Varon (Victoria)\, will both be at the C. Andrew Nelson has appeared in the Star Wars series. Legends of the Dark Knight writer and artist Dan Brereton will highlight Artist Alley. The mission of StocktonCon\, the Grape City Con and the Central Valley Con is to raise awareness of outstanding artists in the San Joaquin Valley area ? and to give attendees the chance to experience Popular Culture (Comics\, Card Games\, Video Games\, Cards\, Anime\, Manga\, Science Fiction\, Toys\, Television and Movies). It is also Central Valley Con?s intention to raise awareness and funds in conjunction with United Way of San Joaquin County and the Salvation Army of Lodi. You can follow the Grape City Con on Twitter by using the @grapecitycon username. Potential vendors and artists can join the information list by sending a note to GrapeCityCon@yahoo.com http://facebook.com/grapecitycon http://twitter.com/grapecitycon
LOCATION:Lodi Grape Festival Grounds
UID:e.2050.943
SEQUENCE:3
DTSTAMP:20260420T130007Z
URL:https://business.lodichamber.com/events/details/grape-city-con-02-13-2016-943
END:VEVENT

END:VCALENDAR
