BEGIN:VCALENDAR
VERSION:2.0
PRODID:-//ChamberMaster//Event Calendar 2.0//EN
METHOD:PUBLISH
X-PUBLISHED-TTL:P3D
REFRESH-INTERVAL:P3D
CALSCALE:GREGORIAN
BEGIN:VEVENT
DTSTART:20150203T153000Z
DTEND:20150203T213000Z
X-MICROSOFT-CDO-ALLDAYEVENT:FALSE
SUMMARY:Grape Day
DESCRIPTION:This informative and fun day is open to the public and is a perfect way to learn more about the fascinating grape growing industry. Grape Day starts with a morning program covering the most current topics that pertain to the industry\, followed by wine tasting\, lunch and concludes with a luncheon speaker.
X-ALT-DESC;FMTTYPE=text/html:This informative and fun day is open to the public and is a perfect way to learn more about the fascinating grape growing industry. Grape Day starts with a morning program covering the most current topics that pertain to the industry\, followed by wine tasting\, lunch and concludes with a luncheon speaker.&nbsp\;
LOCATION:Hutchins Street Square- Crete and Kirst Hall 125 South Hutchins St. Lodi
UID:e.2050.347
SEQUENCE:3
DTSTAMP:20260421T055725Z
URL:https://business.lodichamber.com/events/details/grape-day-02-03-2015-347
END:VEVENT

END:VCALENDAR
