BEGIN:VCALENDAR
VERSION:2.0
PRODID:-//ChamberMaster//Event Calendar 2.0//EN
METHOD:PUBLISH
X-PUBLISHED-TTL:P3D
REFRESH-INTERVAL:P3D
CALSCALE:GREGORIAN
BEGIN:VEVENT
DTSTART:20151010T170000Z
DTEND:20151010T230000Z
X-MICROSOFT-CDO-ALLDAYEVENT:FALSE
SUMMARY:Great Valley Bookfest
DESCRIPTION:Celebrate the fun of reading with author talks\, autographs\, cooking demos\, workshops\, costume parade\, contests\, vendors\, and books\, books\, books!  Admission is free! The day includes over 30+ author talks on six stages\, a costume parade\, slam poetry performances\, street performers\, cooking demos\, self-publishing seminars\, writers' workshops\, new and used booksellers\, class-authored book displays\, arts & crafts\, plus gourmet food and beverage vendors.
X-ALT-DESC;FMTTYPE=text/html:Celebrate the fun of reading with author talks\, autographs\, cooking demos\, workshops\, costume parade\, contests\, vendors\, and books\, books\, books! &nbsp\;Admission is free! The day includes over 30+ author talks on six stages\, a costume parade\, slam poetry performances\, street performers\, cooking demos\, self-publishing seminars\, writers&#39\; workshops\, new and used booksellers\, class-authored book displays\, arts &amp\; crafts\, plus gourmet food and beverage vendors.
LOCATION:The Promenade at BASS PRO (Hwy 120 at Union in Manteca) 280 Lifestyle Rd.\, Manteca CA 95337
UID:e.2050.903
SEQUENCE:3
DTSTAMP:20260420T185248Z
URL:https://business.lodichamber.com/events/details/great-valley-bookfest-10-10-2015-903
END:VEVENT

END:VCALENDAR
