BEGIN:VCALENDAR
VERSION:2.0
PRODID:-//ChamberMaster//Event Calendar 2.0//EN
METHOD:PUBLISH
X-PUBLISHED-TTL:P3D
REFRESH-INTERVAL:P3D
CALSCALE:GREGORIAN
BEGIN:VEVENT
DTSTART:20141018T170000Z
DTEND:20141018T230000Z
X-MICROSOFT-CDO-ALLDAYEVENT:FALSE
SUMMARY:Great Valley Bookfest
DESCRIPTION:On Saturday\, Oct. 18\, 2014 more than fifty authors will share their skills\, stories\, and secrets at the third annual Great Valley Bookfest. The festival runs from 10 a.m. to 4 p.m. at Orchard Valley Shopping Center (Hwy 120 at Union Rd. in Manteca. The free event features eight venues where authors will discuss their work and answer questions. Other activities include a self-publishing seminar\, a writers? workshop\, cooking demonstrations\, and slam poetry performances. In addition to authors\, the event features gourmet food trucks\, arts and crafts vendors\, live radio broadcasts\, and book sales. Festivities begin with a costume parade\; people of all ages are invited to arrive in costume and join the pageant.
X-ALT-DESC;FMTTYPE=text/html:On Saturday\, Oct. 18\, 2014 more than fifty authors will share their skills\, stories\, and secrets at the third annual Great Valley Bookfest. The festival runs from 10 a.m. to 4 p.m. at Orchard Valley Shopping Center (Hwy 120 at Union Rd. in Manteca. The free event features eight venues where authors will discuss their work and answer questions. Other activities include a self-publishing seminar\, a writers? workshop\, cooking demonstrations\, and slam poetry performances. In addition to authors\, the event features gourmet food trucks\, arts and crafts vendors\, live radio broadcasts\, and book sales. Festivities begin with a costume parade\; people of all ages are invited to arrive in costume and join the pageant.
LOCATION:The Promenade Shops at Orchard Valley Lifestyle Way\, Manteca\, CA
UID:e.2050.333
SEQUENCE:3
DTSTAMP:20260421T114131Z
URL:https://business.lodichamber.com/events/details/great-valley-bookfest-10-18-2014-333
END:VEVENT

END:VCALENDAR
