BEGIN:VCALENDAR
VERSION:2.0
PRODID:-//ChamberMaster//Event Calendar 2.0//EN
METHOD:PUBLISH
X-PUBLISHED-TTL:P3D
REFRESH-INTERVAL:P3D
CALSCALE:GREGORIAN
BEGIN:VEVENT
DTSTART:20150731T013000Z
DTEND:20150731T023000Z
X-MICROSOFT-CDO-ALLDAYEVENT:FALSE
SUMMARY:Guitar Clinic with Ernest Tascoe
DESCRIPTION:This is our guitar teacher Ernie. He will be teaching a guitar clinic for beginners on Thursday July 30th at 6:30pm at the Lodi Chamber of Commerce (35 S School St\, Lodi\, CA 95240) during the Farmer's Market. What is normally a $45-50 lesson is $5 this evening. **Teenagers and adults only** Bring your guitar and come jam!\n\nhttp://youtube/HNvCb6biv-c
X-ALT-DESC;FMTTYPE=text/html:<span style="background-color:rgb(255\, 255\, 255)\; color:rgb(20\, 24\, 35)\; font-family:helvetica\,arial\,sans-serif\; font-size:14px">This is our guitar teacher Ernie. He will be teaching a guitar clinic for beginners on Thursday July 30th at 6:30pm at the Lodi Chamber of Commerce (35 S School St\, Lodi\, CA 95240) during the Farmer&#39\;s Market. What is normally a $45-50 lesson is $5 this evening. **Teenagers and adults only** Bring your guitar and come jam!<br />\n<a href="http://youtube/HNvCb6biv-c">http://youtube/HNvCb6biv-c</a></span>
LOCATION:In the conference room of the Lodi Chamber 35 S School St\, Lodi\, CA 95240
UID:e.2050.884
SEQUENCE:3
DTSTAMP:20260421T004359Z
URL:https://business.lodichamber.com/events/details/guitar-clinic-with-ernest-tascoe-07-30-2015-884
END:VEVENT

END:VCALENDAR
