BEGIN:VCALENDAR
VERSION:2.0
PRODID:-//ChamberMaster//Event Calendar 2.0//EN
METHOD:PUBLISH
X-PUBLISHED-TTL:P3D
REFRESH-INTERVAL:P3D
CALSCALE:GREGORIAN
BEGIN:VEVENT
DTSTART:20140927T020000Z
DTEND:20140927T040000Z
X-MICROSOFT-CDO-ALLDAYEVENT:FALSE
SUMMARY:Habaneros
DESCRIPTION:Direct from Havana these members of the National Symphony Orchestra of Cuba have established themselves as soloists\, university faculty\, and concert and recording artists. Their program includes classical favorites and Cuban and other Latin American compositions\, with the artists costumed in authentic festive attire. An engaging international ensemble of celebrated Cuban performers.
X-ALT-DESC;FMTTYPE=text/html:Direct from Havana these members of the National Symphony Orchestra of Cuba have established themselves as soloists\, university faculty\, and concert and recording artists. Their program includes classical favorites and Cuban and other Latin American compositions\, with the artists costumed in authentic festive attire. An engaging international ensemble of celebrated Cuban performers.
LOCATION:Hutchins Street Square 125 S. Hutchins St. Lodi\, CA 95240
UID:e.2050.308
SEQUENCE:3
DTSTAMP:20260421T144849Z
URL:https://business.lodichamber.com/events/details/habaneros-09-26-2014-308
END:VEVENT

END:VCALENDAR
