BEGIN:VCALENDAR
VERSION:2.0
PRODID:-//ChamberMaster//Event Calendar 2.0//EN
METHOD:PUBLISH
X-PUBLISHED-TTL:P3D
REFRESH-INTERVAL:P3D
CALSCALE:GREGORIAN
BEGIN:VEVENT
DTSTART:20150314T030000Z
DTEND:20150314T050000Z
X-MICROSOFT-CDO-ALLDAYEVENT:FALSE
SUMMARY:Hapa
DESCRIPTION:Often encapsulated as the "Sound of Maui" or the "Soundtrack of Hawaii" the music and sound of the group HAPA evokes a place that many people have referred to as heavenly.
X-ALT-DESC;FMTTYPE=text/html:Often encapsulated as the &quot\;Sound of Maui&quot\; or the &quot\;Soundtrack of Hawaii&quot\; the music and sound of the group HAPA evokes a place that many people have referred to as heavenly.
LOCATION:Hutchins Street Square 125 S. Hutchins St. Lodi\, CA 95240
UID:e.2050.362
SEQUENCE:3
DTSTAMP:20260421T042839Z
URL:https://business.lodichamber.com/events/details/hapa-03-13-2015-362
END:VEVENT

END:VCALENDAR
