BEGIN:VCALENDAR
VERSION:2.0
PRODID:-//ChamberMaster//Event Calendar 2.0//EN
METHOD:PUBLISH
X-PUBLISHED-TTL:P3D
REFRESH-INTERVAL:P3D
CALSCALE:GREGORIAN
BEGIN:VEVENT
DTSTART:20141026T000000Z
DTEND:20141026T030000Z
X-MICROSOFT-CDO-ALLDAYEVENT:FALSE
SUMMARY:Harvest Faire
DESCRIPTION:Bring the whole family to the Old West Harvest Faire! Enjoy ?Claim Ur Treat? Miner?s Camp\, Wild West Carnival Games\, Horse Rides at the OK Corral\, Indian Crafts and Face Painting in the Teepee\, Food Court\, and more. Admission is just one canned food item per person. Don?t miss out on this great event Saturday\, October 25\, from 5 ? 8 p.m. at Bear Creek Community Church\, 11171 N. Lower Sacramento Road\, conveniently located just north of Eight Mile Road between Lodi and Stockton. For more details go to www.bearcreekchurch.com or call 209-369-2202 or 209- 951-9229.
X-ALT-DESC;FMTTYPE=text/html:Bring the whole family to the Old West Harvest Faire! Enjoy ?Claim Ur Treat? Miner?s Camp\, Wild West Carnival Games\, Horse Rides at the OK Corral\, Indian Crafts and Face Painting in the Teepee\, Food Court\, and more. Admission is just one canned food item per person. Don?t miss out on this great event Saturday\, October 25\, from 5 ? 8 p.m. at Bear Creek Community Church\, 11171 N. Lower Sacramento Road\, conveniently located just north of Eight Mile Road between Lodi and Stockton. For more details go to www.bearcreekchurch.com or call 209-369-2202 or 209- 951-9229.
LOCATION:Bear Creek Community Church 11171 N Lower Sacramento Rd Lodi\, CA 95242
UID:e.2050.322
SEQUENCE:3
DTSTAMP:20260421T131143Z
URL:https://business.lodichamber.com/events/details/harvest-faire-10-25-2014-322
END:VEVENT

END:VCALENDAR
