BEGIN:VCALENDAR
VERSION:2.0
PRODID:-//ChamberMaster//Event Calendar 2.0//EN
METHOD:PUBLISH
X-PUBLISHED-TTL:P3D
REFRESH-INTERVAL:P3D
CALSCALE:GREGORIAN
BEGIN:VEVENT
DTSTART:20141101T000000Z
DTEND:20141101T040000Z
X-MICROSOFT-CDO-ALLDAYEVENT:FALSE
SUMMARY:Haunted Hutchins Haunted House
DESCRIPTION:Choose your fear level as you take a tour through Dr. Frankenstein's lab. Food and drinks are available for purchase and bring your camera for the free family photo area. One trip per ticket.
X-ALT-DESC;FMTTYPE=text/html:Choose your fear level as you take a tour through Dr. Frankenstein&#39\;s lab. Food and drinks are available for purchase and bring your camera for the free family photo area. One trip per ticket.
LOCATION:Hutchins Street Square 125 S. Hutchins St. Lodi\, CA 95240
UID:e.2050.313
SEQUENCE:3
DTSTAMP:20260421T114254Z
URL:https://business.lodichamber.com/events/details/haunted-hutchins-haunted-house-10-31-2014-313
END:VEVENT

END:VCALENDAR
