BEGIN:VCALENDAR
VERSION:2.0
PRODID:-//ChamberMaster//Event Calendar 2.0//EN
METHOD:PUBLISH
X-PUBLISHED-TTL:P3D
REFRESH-INTERVAL:P3D
CALSCALE:GREGORIAN
BEGIN:VEVENT
DTSTART:20160507T140000Z
DTEND:20160507T183000Z
X-MICROSOFT-CDO-ALLDAYEVENT:FALSE
SUMMARY:Hawaiian Pancake Breakfast
DESCRIPTION:Mark your calendars! Don't miss the Stockton Fil-Am Lions Club's Annual Hawaiian Pancake Breakfast Fundraiser at Community Center for the Blind and Visually Impaired on Sat.\, May 7\, served 7:00-11:30AM! All you can eat pancakes plus fruit\, eggs\, linguicia\, fried rice\, fruit juice and coffee for just $8/person! Tickets may be purchased in advance or are available at the door. Call (209) 466-3836 for tickets and more info. Thank you friends for your faithful support of programs and services for the blind and visually impaired of San Joaquin County.
X-ALT-DESC;FMTTYPE=text/html:Mark your calendars! Don&#39\;t miss the Stockton Fil-Am Lions Club&#39\;s Annual Hawaiian Pancake Breakfast Fundraiser at Community Center for the Blind and Visually Impaired on Sat.\, May 7\, served 7:00-11:30AM! All you can eat pancakes plus fruit\, eggs\, linguicia\, fried rice\, fruit juice and coffee for just $8/person! Tickets may be purchased in advance or are available at the door. Call (209) 466-3836 for tickets and more info. Thank you friends for your faithful support of programs and services for the blind and visually impaired of San Joaquin County.
LOCATION:Community Center for the Blind and Visually Impaired\, 130 W. Flora St.\, Stockton
UID:e.2050.981
SEQUENCE:3
DTSTAMP:20260420T083745Z
URL:https://business.lodichamber.com/events/details/hawaiian-pancake-breakfast-05-07-2016-981
END:VEVENT

END:VCALENDAR
