BEGIN:VCALENDAR
VERSION:2.0
PRODID:-//ChamberMaster//Event Calendar 2.0//EN
METHOD:PUBLISH
X-PUBLISHED-TTL:P3D
REFRESH-INTERVAL:P3D
CALSCALE:GREGORIAN
BEGIN:VEVENT
DTSTART:20151029T200000Z
DTEND:20151030T010000Z
X-MICROSOFT-CDO-ALLDAYEVENT:FALSE
SUMMARY:Health Fair for Seniors & other Medicare Beneficiaries
DESCRIPTION:University of the Pacific Student Pharmacists will: Evaluate your Medicare part D plan (potentially saving you money on your drug costs) Review all of your medications (to make sure they are safe & effective) Free vaccinations (flu and pneumococcal) Blood pressure screening\, diabetes testing\, cholesterol testing\, asthma screening\, bone density screening\, memory decline screening\, falls risk assessment and much more! Please bring: 1. ALL of your prescription & over-the-counter drugs 2. Your Medicare card (red\, white\, & blue card) Appointments recommended! If you would like help with your Medicare Part D plan or a complete review of your medications\, Please call (209)- 369-1591 to make your appointment today. All services are FREE!
X-ALT-DESC;FMTTYPE=text/html:University of the Pacific Student Pharmacists will: Evaluate your Medicare part D plan (potentially saving you money on your drug costs) Review all of your medications (to make sure they are safe &amp\; effective) Free vaccinations (flu and pneumococcal) Blood pressure screening\, diabetes testing\, cholesterol testing\, asthma screening\, bone density screening\, memory decline screening\, falls risk assessment and much more! Please bring: 1. ALL of your prescription &amp\; over-the-counter drugs 2. Your Medicare card (red\, white\, &amp\; blue card) Appointments recommended! If you would like help with your Medicare Part D plan or a complete review of your medications\, Please call (209)- 369-1591 to make your appointment today. All services are FREE!
LOCATION:LOEL Senior Center 105 S. Washington St. Lodi
UID:e.2050.905
SEQUENCE:3
DTSTAMP:20260420T203143Z
URL:https://business.lodichamber.com/events/details/health-fair-for-seniors-other-medicare-beneficiaries-10-29-2015-905
END:VEVENT

END:VCALENDAR
