BEGIN:VCALENDAR
VERSION:2.0
PRODID:-//ChamberMaster//Event Calendar 2.0//EN
METHOD:PUBLISH
X-PUBLISHED-TTL:P3D
REFRESH-INTERVAL:P3D
CALSCALE:GREGORIAN
BEGIN:VEVENT
DTSTART:20151117T210000Z
DTEND:20151118T030000Z
X-MICROSOFT-CDO-ALLDAYEVENT:FALSE
SUMMARY:Health Fair for Seniors & other Medicare Beneficiaries
DESCRIPTION:University of the Pacific Student Pharmacists will: Evaluate your Medicare part D plan (potentially saving you money on your drug costs) Review all of your medications (to make sure they are safe & effective) Free vaccinations (flu and pneumococcal) Blood pressure screening\, diabetes testing\, cholesterol testing\, asthma screening\, bone density screening\, memory decline screening\, falls risk assessment and much more! Please bring: 1. ALL of your prescription & over-the-counter drugs 2. Your Medicare card (red\, white\, & blue card) Appointments recommended! If you would like help with your Medicare Part D plan or a complete review of your medications\, Please call (209)- 333-5550 to make your appointment today. All services are FREE!
X-ALT-DESC;FMTTYPE=text/html:University of the Pacific Student Pharmacists will: Evaluate your Medicare part D plan (potentially saving you money on your drug costs) Review all of your medications (to make sure they are safe &amp\; effective) Free vaccinations (flu and pneumococcal) Blood pressure screening\, diabetes testing\, cholesterol testing\, asthma screening\, bone density screening\, memory decline screening\, falls risk assessment and much more! Please bring: 1. ALL of your prescription &amp\; over-the-counter drugs 2. Your Medicare card (red\, white\, &amp\; blue card) Appointments recommended! If you would like help with your Medicare Part D plan or a complete review of your medications\, Please call (209)- 333-5550 to make your appointment today. All services are FREE!
LOCATION:Hutchins Street Square (Room: Kirst Hall) 125 South Hutchins Street\, Lodi
UID:e.2050.906
SEQUENCE:3
DTSTAMP:20260420T173238Z
URL:https://business.lodichamber.com/events/details/health-fair-for-seniors-other-medicare-beneficiaries-11-17-2015-906
END:VEVENT

END:VCALENDAR
